BEGIN:VCALENDAR
VERSION:2.0
PRODID:-//Sci-Port Discovery Center - ECPv6.15.20//NONSGML v1.0//EN
CALSCALE:GREGORIAN
METHOD:PUBLISH
X-ORIGINAL-URL:https://sci-port.org
X-WR-CALDESC:Events for Sci-Port Discovery Center
REFRESH-INTERVAL;VALUE=DURATION:PT1H
X-Robots-Tag:noindex
X-PUBLISHED-TTL:PT1H
BEGIN:VTIMEZONE
TZID:America/Chicago
BEGIN:DAYLIGHT
TZOFFSETFROM:-0600
TZOFFSETTO:-0500
TZNAME:CDT
DTSTART:20240310T080000
END:DAYLIGHT
BEGIN:STANDARD
TZOFFSETFROM:-0500
TZOFFSETTO:-0600
TZNAME:CST
DTSTART:20241103T070000
END:STANDARD
BEGIN:DAYLIGHT
TZOFFSETFROM:-0600
TZOFFSETTO:-0500
TZNAME:CDT
DTSTART:20250309T080000
END:DAYLIGHT
BEGIN:STANDARD
TZOFFSETFROM:-0500
TZOFFSETTO:-0600
TZNAME:CST
DTSTART:20251102T070000
END:STANDARD
BEGIN:DAYLIGHT
TZOFFSETFROM:-0600
TZOFFSETTO:-0500
TZNAME:CDT
DTSTART:20260308T080000
END:DAYLIGHT
BEGIN:STANDARD
TZOFFSETFROM:-0500
TZOFFSETTO:-0600
TZNAME:CST
DTSTART:20261101T070000
END:STANDARD
END:VTIMEZONE
BEGIN:VEVENT
DTSTART;TZID=America/Chicago:20250504T120000
DTEND;TZID=America/Chicago:20250504T170000
DTSTAMP:20260424T141401
CREATED:20250120T232537Z
LAST-MODIFIED:20250429T001341Z
UID:18703-1746360000-1746378000@sci-port.org
SUMMARY:May the Fourth
DESCRIPTION:Join us on Sunday\, May 4th for a day of galactic fun at Sci-Port Discovery Center! We’re celebrating Give for Good with FREE General Admission\, exciting activities\, and cosmic surprises for the whole family. Whether you’re a Jedi\, a Rebel\, or just ready for an adventure\, there’s something for everyone! \n\nMeet the legendary 501st Legion! These incredible costumed characters bring the Star Wars universe to life — perfect for photos and unforgettable memories.\nNew Planetarium Show: “Always Above: Space is Closer Than You Think”\nEnjoy themed activities and interactive experiences throughout the museum. Stay tuned for a schedule of galactic fun!\nFood Vendors On-Site (Available for Purchase) – Refuel during your adventure with delicious food from local favorites: Queen of Sweets Stonewall\, Demented Desserts\, and Mi Meza Latin Cuisine\nLimited Edition May the Fourth Sci-Port Shirts — only $13 each! (Available while supplies last.)\n\n  \nDate: Sunday\, May 4\, 2025Time: 12:00 – 5:00 PM (Event activities will run throughout the day)Location: Sci-Port Discovery Center\, 820 Clyde Fant Pkwy\, Shreveport LA 71101 \n\nLearn more about Give for Good Sci-Port Discovery Center | Give for Good
URL:https://sci-port.org/event/may-the-fourth-2/
LOCATION:Sci-Port Discovery Center
CATEGORIES:Event,Featured
ATTACH;FMTTYPE=image/png:https://sci-port.org/assets/uploads/2025/01/Facebook-Post-Size-1.png
END:VEVENT
END:VCALENDAR