BEGIN:VCALENDAR
VERSION:2.0
PRODID:-//Sci-Port Discovery Center - ECPv6.15.20//NONSGML v1.0//EN
CALSCALE:GREGORIAN
METHOD:PUBLISH
X-WR-CALNAME:Sci-Port Discovery Center
X-ORIGINAL-URL:https://sci-port.org
X-WR-CALDESC:Events for Sci-Port Discovery Center
REFRESH-INTERVAL;VALUE=DURATION:PT1H
X-Robots-Tag:noindex
X-PUBLISHED-TTL:PT1H
BEGIN:VTIMEZONE
TZID:America/Chicago
BEGIN:DAYLIGHT
TZOFFSETFROM:-0600
TZOFFSETTO:-0500
TZNAME:CDT
DTSTART:20240310T080000
END:DAYLIGHT
BEGIN:STANDARD
TZOFFSETFROM:-0500
TZOFFSETTO:-0600
TZNAME:CST
DTSTART:20241103T070000
END:STANDARD
BEGIN:DAYLIGHT
TZOFFSETFROM:-0600
TZOFFSETTO:-0500
TZNAME:CDT
DTSTART:20250309T080000
END:DAYLIGHT
BEGIN:STANDARD
TZOFFSETFROM:-0500
TZOFFSETTO:-0600
TZNAME:CST
DTSTART:20251102T070000
END:STANDARD
BEGIN:DAYLIGHT
TZOFFSETFROM:-0600
TZOFFSETTO:-0500
TZNAME:CDT
DTSTART:20260308T080000
END:DAYLIGHT
BEGIN:STANDARD
TZOFFSETFROM:-0500
TZOFFSETTO:-0600
TZNAME:CST
DTSTART:20261101T070000
END:STANDARD
END:VTIMEZONE
BEGIN:VEVENT
DTSTART;TZID=America/Chicago:20250906T090000
DTEND;TZID=America/Chicago:20250906T170000
DTSTAMP:20260425T101538
CREATED:20250829T151341Z
LAST-MODIFIED:20250829T151341Z
UID:20722-1757149200-1757178000@sci-port.org
SUMMARY:STEM Rewinds in the STEM Lab
DESCRIPTION:Fold your way into science with our Origami Workshop! Part of our STEM Rewind series\, this workshop takes a closer look at the intersection of art\, math\, and engineering through the Japanese art of paper folding. Participants will learn origami techniques while uncovering the scientific principles behind each fold. Great for families\, students\, or anyone curious about the hidden math in art.
URL:https://sci-port.org/event/stem-rewinds-in-the-stem-lab/
LOCATION:Sci-Port Discovery Center
CATEGORIES:Event,Featured
ATTACH;FMTTYPE=image/png:https://sci-port.org/assets/uploads/2025/08/insta-1080-x-1080-15.png
END:VEVENT
END:VCALENDAR