BEGIN:VCALENDAR
VERSION:2.0
PRODID:-//Sci-Port Discovery Center - ECPv6.15.20//NONSGML v1.0//EN
CALSCALE:GREGORIAN
METHOD:PUBLISH
X-WR-CALNAME:Sci-Port Discovery Center
X-ORIGINAL-URL:https://sci-port.org
X-WR-CALDESC:Events for Sci-Port Discovery Center
REFRESH-INTERVAL;VALUE=DURATION:PT1H
X-Robots-Tag:noindex
X-PUBLISHED-TTL:PT1H
BEGIN:VTIMEZONE
TZID:America/Chicago
BEGIN:DAYLIGHT
TZOFFSETFROM:-0600
TZOFFSETTO:-0500
TZNAME:CDT
DTSTART:20250309T080000
END:DAYLIGHT
BEGIN:STANDARD
TZOFFSETFROM:-0500
TZOFFSETTO:-0600
TZNAME:CST
DTSTART:20251102T070000
END:STANDARD
BEGIN:DAYLIGHT
TZOFFSETFROM:-0600
TZOFFSETTO:-0500
TZNAME:CDT
DTSTART:20260308T080000
END:DAYLIGHT
BEGIN:STANDARD
TZOFFSETFROM:-0500
TZOFFSETTO:-0600
TZNAME:CST
DTSTART:20261101T070000
END:STANDARD
BEGIN:DAYLIGHT
TZOFFSETFROM:-0600
TZOFFSETTO:-0500
TZNAME:CDT
DTSTART:20270314T080000
END:DAYLIGHT
BEGIN:STANDARD
TZOFFSETFROM:-0500
TZOFFSETTO:-0600
TZNAME:CST
DTSTART:20271107T070000
END:STANDARD
END:VTIMEZONE
BEGIN:VEVENT
DTSTART;TZID=America/Chicago:20260218T080000
DTEND;TZID=America/Chicago:20260313T233000
DTSTAMP:20260424T154349
CREATED:20260218T202249Z
LAST-MODIFIED:20260218T202629Z
UID:21030-1771401600-1773444600@sci-port.org
SUMMARY:Sketching the Wild
DESCRIPTION:We’re excited to announce a special arts-and-science collaboration! Sci-Port Discovery Center\, in partnership with the Shreveport Regional Arts Council\, will present Sketching the Wild — a juried gallery exhibition coming to Artspace in downtown Shreveport. \nThe exhibition will be on display April 11–May 22\, 2026\, with an opening reception on Saturday\, April 11 from 5:30–7:00 PM. \nThis exhibition is part of a larger celebration of science illustration happening across our community\, coinciding with Natural Histories: 400 Years of Scientific Illustration\, a temporary exhibition opening March 11 at Sci-Port that explores the beauty\, history\, and impact of scientific illustration through collaborations with regional and national partners. \nCall for Artists — Submissions Now Open\nWe are currently accepting artwork submissions for Sketching the Wild. There is no cost to enter\, and all entries will go through a juried review process. Artists may submit work in the following categories:\n\n\nK–12 Students \n\n\nCollege / University Students \n\n\nGeneral Public \n\nProfessional Artists\n\nSubmission form: https://forms.gle/MGjcYhveUZJGf92s5 \nImportant Dates: \n\n\nSubmission Deadline: Friday\, March 13\, 2026 (11:59 PM) \n\n\nArtist Notifications: By Friday\, March 20\, 2026 \n\n\nExhibition Dates: April 11–May 22\, 2026 \n\n\nOpening Reception: April 11\, 5:30–7:00 PM
URL:https://sci-port.org/event/sketching-the-wild/
CATEGORIES:Event,Featured,Temporary Exhibit
ATTACH;FMTTYPE=image/png:https://sci-port.org/assets/uploads/2026/02/insta-1080-x-1080-24-1.png
END:VEVENT
BEGIN:VEVENT
DTSTART;TZID=America/Chicago:20260321T083000
DTEND;TZID=America/Chicago:20260321T100000
DTSTAMP:20260424T154349
CREATED:20260217T172805Z
LAST-MODIFIED:20260224T200157Z
UID:21010-1774081800-1774087200@sci-port.org
SUMMARY:Member's Only Easter Egg Hunt
DESCRIPTION:Sci-Port members are invited to join us Saturday\, March 21 starting at 8:30 AM for a fun-filled Easter egg hunt throughout the center! We’ll have multiple galleries with age-designated hunts and staggered start times to keep things exciting and comfortable for everyone. \nThis event is free for Sci-Port members. Not a Sci-Port member but part of an ASTC Passport Program participating museum? This event is for you too! And if you’re not currently a Sci-Port member but know one\, you can still join the festivities with a Friends of a Member pass for just $5 per person – a fun way to experience membership perks for the day and learn more about joining. \nWe’ll have hundreds of eggs hidden throughout the center\, plus a golden egg in each gallery that unlocks a basket full of goodies. The hunt is geared toward kiddos 12 and under\, but we haven’t forgotten the young-at-heart – guests 13+ can jump into egg-cellent games\, win prizes\, compete\, and discover new curiosities along the way. \nWe’ll also have special programming and activities happening throughout the event and the day so plan to stick around and keep the fun going! We can’t wait to celebrate with you.
URL:https://sci-port.org/event/members-only-easter-egg-hunt/
LOCATION:Sci-Port Discovery Center
CATEGORIES:Event,Featured
ATTACH;FMTTYPE=image/png:https://sci-port.org/assets/uploads/2026/02/insta-1080-x-1080-24.png
END:VEVENT
END:VCALENDAR