BEGIN:VCALENDAR
VERSION:2.0
PRODID:-//Sci-Port Discovery Center - ECPv6.15.20//NONSGML v1.0//EN
CALSCALE:GREGORIAN
METHOD:PUBLISH
X-WR-CALNAME:Sci-Port Discovery Center
X-ORIGINAL-URL:https://sci-port.org
X-WR-CALDESC:Events for Sci-Port Discovery Center
REFRESH-INTERVAL;VALUE=DURATION:PT1H
X-Robots-Tag:noindex
X-PUBLISHED-TTL:PT1H
BEGIN:VTIMEZONE
TZID:America/Chicago
BEGIN:DAYLIGHT
TZOFFSETFROM:-0600
TZOFFSETTO:-0500
TZNAME:CDT
DTSTART:20240310T080000
END:DAYLIGHT
BEGIN:STANDARD
TZOFFSETFROM:-0500
TZOFFSETTO:-0600
TZNAME:CST
DTSTART:20241103T070000
END:STANDARD
BEGIN:DAYLIGHT
TZOFFSETFROM:-0600
TZOFFSETTO:-0500
TZNAME:CDT
DTSTART:20250309T080000
END:DAYLIGHT
BEGIN:STANDARD
TZOFFSETFROM:-0500
TZOFFSETTO:-0600
TZNAME:CST
DTSTART:20251102T070000
END:STANDARD
BEGIN:DAYLIGHT
TZOFFSETFROM:-0600
TZOFFSETTO:-0500
TZNAME:CDT
DTSTART:20260308T080000
END:DAYLIGHT
BEGIN:STANDARD
TZOFFSETFROM:-0500
TZOFFSETTO:-0600
TZNAME:CST
DTSTART:20261101T070000
END:STANDARD
END:VTIMEZONE
BEGIN:VEVENT
DTSTART;TZID=America/Chicago:20250906T090000
DTEND;TZID=America/Chicago:20250906T170000
DTSTAMP:20260425T082527
CREATED:20250829T151341Z
LAST-MODIFIED:20250829T151341Z
UID:20722-1757149200-1757178000@sci-port.org
SUMMARY:STEM Rewinds in the STEM Lab
DESCRIPTION:Fold your way into science with our Origami Workshop! Part of our STEM Rewind series\, this workshop takes a closer look at the intersection of art\, math\, and engineering through the Japanese art of paper folding. Participants will learn origami techniques while uncovering the scientific principles behind each fold. Great for families\, students\, or anyone curious about the hidden math in art.
URL:https://sci-port.org/event/stem-rewinds-in-the-stem-lab/
LOCATION:Sci-Port Discovery Center
CATEGORIES:Event,Featured
ATTACH;FMTTYPE=image/png:https://sci-port.org/assets/uploads/2025/08/insta-1080-x-1080-15.png
END:VEVENT
BEGIN:VEVENT
DTSTART;TZID=America/Chicago:20250920T170000
DTEND;TZID=America/Chicago:20250920T200000
DTSTAMP:20260425T082527
CREATED:20250829T151027Z
LAST-MODIFIED:20250909T154017Z
UID:20719-1758387600-1758398400@sci-port.org
SUMMARY:Science on the Rocks: Tattoo Edition
DESCRIPTION:Step into a night of ink\, art\, and science! This special Tattoo Edition of Science on the Rocks is an after-hours event for ages 18+ where Sci-Port transforms into a playground for curious adults. Explore the history\, culture\, and science of tattooing\, and experience live demonstrations with Hand Forged Tattoo. It’s an unforgettable evening of discovery\, creativity\, and community—where science meets self-expression. \n 
URL:https://sci-port.org/event/science-on-the-rocks-tattoo-edition/
LOCATION:Sci-Port Discovery Center
CATEGORIES:Event,Featured
ATTACH;FMTTYPE=image/png:https://sci-port.org/assets/uploads/2025/08/insta-1080-x-1080-16.png
END:VEVENT
BEGIN:VEVENT
DTSTART;TZID=America/Chicago:20250926T170000
DTEND;TZID=America/Chicago:20250926T210000
DTSTAMP:20260425T082527
CREATED:20250923T163823Z
LAST-MODIFIED:20250923T163823Z
UID:20758-1758906000-1758920400@sci-port.org
SUMMARY:Tabletop Night
DESCRIPTION:We couldn’t let GamePort close without going out on a critical hit—so join us for a special tabletop gaming night filled with battles\, cards\, dice\, and creativity! Whether you’re a seasoned player or brand new\, this is the perfect event to roll the dice on something new.\nDemo Tables Include:– Warhammer 40K & Age of Sigmar – Learn the worlds of strategy and battle\, and walk away with your very own model!– Pokémon Trading Card Game – Gotta demo ’em all! Take home a free demo deck.– Magic: The Gathering – Try out a pre-built deck OR build your own with a Prerelease kit. Plus\, keep your demo deck!– Dungeons & Dragons – Step into an adventure with friends! Players get a free miniature or a ticket for an in-store session.\nBuild & Paint AreaUnleash your creativity with paints\, brushes\, and miniatures from Warhammer and D&D! Take home your painted masterpiece.\nThis epic night is brought to you in partnership with GamersXP and GameXchange—because what better way to end GamePort than with an all-out tabletop showdown?\n\nMembers: $8Nonmembers: $10\n  \n 
URL:https://sci-port.org/event/tabletop-night/
CATEGORIES:Event,Featured
ATTACH;FMTTYPE=image/png:https://sci-port.org/assets/uploads/2025/09/Facebook-Post-Size-19.png
END:VEVENT
BEGIN:VEVENT
DTSTART;TZID=America/Chicago:20250929T080000
DTEND;TZID=America/Chicago:20251003T170000
DTSTAMP:20260425T082527
CREATED:20250829T153126Z
LAST-MODIFIED:20250829T153126Z
UID:20726-1759132800-1759510800@sci-port.org
SUMMARY:Temporary Closure
DESCRIPTION:Sci-Port Discovery Center will be closed Monday\, September 29 – Friday\, October 3 for scheduled maintenance\, repairs\, and exhibition changes. During this time\, our team will be hard at work refreshing the center\, updating layouts\, and installing a brand-new temporary exhibition. \nWe’ll reopen at 9:00 AM on Saturday\, October 4 with fresh experiences\, exciting programs\, and a new exhibition you won’t want to miss!
URL:https://sci-port.org/event/temporary-closure/
LOCATION:Sci-Port Discovery Center
CATEGORIES:Event,Featured
ATTACH;FMTTYPE=image/png:https://sci-port.org/assets/uploads/2025/08/Facebook-Post-Size-6.png
END:VEVENT
END:VCALENDAR